BEGIN:VCALENDAR
VERSION:2.0
PRODID:-//pretix//tickets.rheinfetisch.de//
BEGIN:VTIMEZONE
TZID:Europe/Berlin
BEGIN:STANDARD
DTSTART:20001029T040000
RRULE:FREQ=YEARLY;BYDAY=-1SU;BYMONTH=10
TZNAME:CET
TZOFFSETFROM:+0200
TZOFFSETTO:+0100
END:STANDARD
BEGIN:DAYLIGHT
DTSTART:20000326T030000
RRULE:FREQ=YEARLY;BYDAY=-1SU;BYMONTH=3
TZNAME:CEST
TZOFFSETFROM:+0100
TZOFFSETTO:+0200
END:DAYLIGHT
END:VTIMEZONE
BEGIN:VEVENT
UID:pretix-RF-260327a-0@tickets.rheinfetisch.de
DTSTART;TZID=Europe/Berlin:20260327T183000
DTEND;TZID=Europe/Berlin:20260327T193000
DESCRIPTION:Tickets: https://tickets.rheinfetisch.de/RF/260327a/\nVeranstal
 ter: Rheinfetisch
DTSTAMP:20260421T212804Z
LOCATION:Tuscolo\, Antoniter Straße 14–16 | 50667 Köln\, (H) Neumarkt |
  Bahn 1\, 3\, 4\, 7\, 9\, 16\, 18 | Bus 136\, 146
SUMMARY:Rheinfetisch Dinner
END:VEVENT
END:VCALENDAR
