BEGIN:VCALENDAR
VERSION:2.0
PRODID:-//pretix//tickets.rheinfetisch.de//
BEGIN:VTIMEZONE
TZID:Europe/Berlin
BEGIN:STANDARD
DTSTART:20001029T040000
RRULE:FREQ=YEARLY;BYDAY=-1SU;BYMONTH=10
TZNAME:CET
TZOFFSETFROM:+0200
TZOFFSETTO:+0100
END:STANDARD
BEGIN:DAYLIGHT
DTSTART:20000326T030000
RRULE:FREQ=YEARLY;BYDAY=-1SU;BYMONTH=3
TZNAME:CEST
TZOFFSETFROM:+0100
TZOFFSETTO:+0200
END:DAYLIGHT
END:VTIMEZONE
BEGIN:VEVENT
UID:pretix-RF-20260430a-0@tickets.rheinfetisch.de
DTSTART;TZID=Europe/Berlin:20260430T184500
DTEND;TZID=Europe/Berlin:20260430T210000
DESCRIPTION:Tickets: https://tickets.rheinfetisch.de/RF/20260430a/\nVeranst
 alter: Rheinfetisch
DTSTAMP:20260419T123938Z
LOCATION:City–Bowling\, Moselstraße 44 | 50674 Köln\, (H) Barbarossapla
 tz | Bahn 12\, 15\, 16\, 18
SUMMARY:Rheinfetisch Bowling
END:VEVENT
END:VCALENDAR
